Workbook
Name 業種区分: #REF!

Sheet 1
C1: ※代表者の役職が候補に存在しない場合は手入力してください。また、発注業種の選択に図形の円は使用しないでください。
B2: 愛媛県建設工事請負業者選定要領
A3: D | B3: 様式第１号（第３条、第４条、様式第２号関係） 建設工事入札参加資格審査申請書 | AK3: 業者コード
A4: 1 | C4: 法人番号（法人の場合） | V4: 許可番号 | Y4: 知事 大臣 | AA4: 第 | AH4: 号 | AJ4: FALSE | AK4: =IF(AJ4=TRUE,IF(AJ5=TRUE,"XX","38"),IF(AJ5=TRUE,"00","XX"))&TEXT(AE4,"000000") -> XX000000
AJ5: FALSE
Y6: （該当するものを☑すること。)
O7: 年度 建設工事入札参加資格審査申請書 | AJ7: 申請年月日
C8: 愛媛県知事 | K8: 様 | AC8: 年 | AE8: 月 | AG8: 日 | AJ8: =DATE(2018+IF(AB8="元",1,ASC(AB8)),AD8,AF8) -> #VALUE!
Q9: 住所
Q10: （ふりがな）
Q11: 商号又は名称
Q12: （ふりがな）
Q13: 代表者の役職及び氏名
Q14: （行政書士）
Q15: 事務所の名称及び所在地
Q17: 氏名
Q18: 電話番号
C19: １ 申請要件 （該当するものを☑すること。)
D20: 地方自治法施行令（昭和22年政令第16号）第167条の４（同令第167条の11第１項において準用する場合を含む。）の規定に該当しない者であること。 | AJ20: FALSE
D21: 愛媛県建設工事請負業者選定要領（昭和39年７月愛媛県告示第607号）第３条第１項に掲げる要件を全て満たしている者であること。 | AJ21: FALSE
C22: ２ 申請事務担当者
C23: 職・氏名 | R23: 【代表】電子メールアドレス
C24: 電話 | R24: 【担当者】電子メールアドレス
G25: 〒 | H25: -
C26: ３ 主たる営
C27: 業所 | W27: 電話 | AA27: ( )-( )-( )
W28: ＦＡＸ | AA28: ( )-( )-( )
W29: メールアドレス
G30: 〒 | H30: -
W31: 電話 | AA31: ( )-( )-( )
C32: ４ その他の | W32: ＦＡＸ | AA32: ( )-( )-( )
C33: 営業所 | G33: 〒 | H33: -
W34: 電話 | AA34: ( )-( )-( )
W35: ＦＡＸ | AA35: ( )-( )-( )
C36: ５ 経営事項審査の審査基準日 | P36: 年 月 日
C37: ６ 資本金額 | G37: 法人 | I37: 資 本 金 | S37: 千円 | U37: 個人 | W37: 自己資本 | AG37: 千円
I38: 自己資本 | S38: 千円
C39: ７ 愛媛県電子入札用 業者ＩＤ(建設工事)
C40: ８ 発注を希望する業種（○印を記入すること。）
C41: 土木 | E41: 建築 | G41: 大工 | I41: 左官 | K41: とび・土工 | M41: 石 | O41: 屋根 | Q41: 電気 | S41: 管 | U41: タイル・ れんが・ ブロック | W41: 鋼構造物 | Y41: 鉄筋 | AA41: 舗装 | AC41: しゆんせつ | AE41: 板金 | AG41: ガラス
C43: 塗装 | E43: 防水 | G43: 内装仕上 | I43: 機械器具設置 | K43: 熱絶縁 | M43: 電気通信 | O43: 造園 | Q43: さく井 | S43: 建具 | U43: 水道施設 | W43: 消防施設 | Y43: 清掃施設 | AA43: 解体
C45: ９ 許可を受けた建設業の種類（○印を記入すること。）
C46: 土木 | E46: 建築 | G46: 大工 | I46: 左官 | K46: とび・土工 | M46: 石 | O46: 屋根 | Q46: 電気 | S46: 管 | U46: タイル・ れんが・ ブロック | W46: 鋼構造物 | Y46: 鉄筋 | AA46: 舗装 | AC46: しゆんせつ | AE46: 板金 | AG46: ガラス
C48: 塗装 | E48: 防水 | G48: 内装仕上 | I48: 機械器具設置 | K48: 熱絶縁 | M48: 電気通信 | O48: 造園 | Q48: さく井 | S48: 建具 | U48: 水道施設 | W48: 消防施設 | Y48: 清掃施設 | AA48: 解体
AJ51: 有無
AJ53: ◯
AJ55: 市町村 | AK55: コード
AJ56: 愛媛県松山市 | AK56: 201
AJ57: 愛媛県今治市 | AK57: 202
AJ58: 愛媛県宇和島市 | AK58: 203
AJ59: 愛媛県八幡浜市 | AK59: 204
AJ60: 愛媛県新居浜市 | AK60: 205
AJ61: 愛媛県西条市 | AK61: 206
AJ62: 愛媛県大洲市 | AK62: 207
AJ63: 愛媛県伊予市 | AK63: 210
AJ64: 愛媛県四国中央市 | AK64: 213
AJ65: 愛媛県西予市 | AK65: 214
AJ66: 愛媛県東温市 | AK66: 215
AJ67: 愛媛県越智郡松前町 | AK67: 356
... AJ75: 愛媛県南宇和郡愛南町 | AK75: 506
AJ77: 代表者役職名１
AJ78: 代表取締役
AJ79: 代表取締役社長
AJ80: 営業所長
AJ81: 支店長
AJ82: 取締役
AJ83: 取締役社長
AJ84: 代表取締役副社長
AJ85: 代表社員
AJ86: 代表者
AJ87: 代表理事
AJ88: 理事長
... AJ131: その他
AJ133: 業種 | AK133: 略称
AJ134: 土木一式工事 | AK134: 土
AJ135: 建築一式工事 | AK135: 建
AJ136: 大工工事 | AK136: 大
AJ137: 左官工事 | AK137: 左
AJ138: とび・土工・コンクリート工事 | AK138: と
AJ139: 石工事 | AK139: 石
AJ140: 屋根工事 | AK140: 屋
AJ141: 電気工事 | AK141: 電
AJ142: 管工事 | AK142: 管
AJ143: タイル・れんが・ブロック工事 | AK143: タ
AJ144: 鋼構造物工事 | AK144: 鋼
... AJ164: 表彰区分 | AK164: 表彰の種類
AJ165: 1 | AK165: 愛媛県優良建設工事知事表彰
AJ166: 2 | AK166: 四国地方整備局優良工事表彰
AJ167: 3 | AK167: 四国地方整備局安全工事表彰
AJ168: 4 | AK168: 四国地方整備局各事務所・管理所優良工事表彰
AJ169: 5 | AK169: 四国地方整備局各事務所・管理所安全工事表彰
AJ170: 6 | AK170: 建設業退職金共済制度普及協力者表彰
AJ171: 7 | AK171: 雇用改善優良事業所表彰
AJ172: 8 | AK172: 安全衛生に係る優良事業場、団体又は功労者に対する表彰
AJ173: 9 | AK173: 障害者雇用優良事業所表彰

Sheet 2
C1: ※該当者なしの場合は空欄としてください。また、行の追加・延長による規定数以上の記入はしないでください。
A2: D | C2: 10 役職員数
A3: 2 | C3: 常勤の役員 | F3: 従業員
F4: 技術関係職員 | N4: 事務職員 | Q4: 計
F5: 有資格者 | J5: その他職員
C7: 11 地域貢献活動の状況 | V7: 地域貢献数 | W7: 対象外文字列
D8: 活 動 の 概 要 | K8: 主 催 者 | O8: 活 動 期 間 | S8: 活動人数 | V8: =COUNTA(D8:D19)-1-W8 -> 0 | W8: =IF(OR(D9="なし",D9="該当なし",D9="該当者なし",D9="非該当"),1,0) -> 0
C9: 1 | V9: FALSE
C10: 2
C11: 3
C12: 4
C13: 5
C14: 6
C15: 7
C16: 8
C17: 9
C18: 10
C19: 12 本県との非常事態に関する協定の締結状況
C20: 締結の有無 | F20: 有 | G20: 無 | H20: （該当するものを☑すること。) | M20: 協定コード | W20: =IF(OR(V20=TRUE,V20=""),FALSE,TRUE) -> FALSE | Y20: =TEXT(S20*10 + T20,"00") -> 00
C22: 13 インターンシップ、出前講座等の実施状況 | V22: 担手取組数 | W22: 対象外文字列
D23: 活 動 の 概 要 | K23: 主 催 者 | O23: 活 動 期 間 | V23: =COUNTA(D23:D26)-1-W23 -> 0 | W23: =IF(OR(D24="なし",D24="該当なし",D24="該当者なし",D24="非該当"),1,0) -> 0
C24: 1
C25: 2
C26: 14 労働福祉の状況（該当するものを☑すること。)
C27: (1) 社会保険等の加入状況
C28: 雇用保険 | F28: 加入 適用除外 | I28: 健康保険 | L28: 加入 適用除外 | O28: 厚生年金保険 | R28: 加入 適用除外 | V28: TRUE | W28: =IF(OR(V28=TRUE,V28=""),FALSE,TRUE) -> FALSE | Y28: FALSE | Z28: =IF(OR(Y28=TRUE,Y28=""),FALSE,TRUE) -> TRUE | AB28: TRUE | AC28: =IF(OR(AB28=TRUE,AB28=""),FALSE,TRUE) -> FALSE
C29: (2) 就業規則における「週休２日制」の規定状況
C30: 規定の有無 | F30: 有 | J30: 無 | V30: TRUE | W30: =IF(OR(V30=TRUE,V30=""),FALSE,TRUE) -> FALSE
C31: (3) 「ひめボス宣言事業所」基本認証の取得状況
C32: 取得の有無 | F32: 有 | J32: 無 | V32: TRUE | W32: =IF(OR(V32=TRUE,V32=""),FALSE,TRUE) -> FALSE
C33: (4) 就業規則における育児休業制度及び介護休業制度の規定状況 | V33: FALSE | W33: FALSE
L34: （上記(3)で「無」を選んだ場合に限り記入すること。） | V34: FALSE | W34: FALSE
C35: 規定の有無 | F35: 有 | J35: 無 | V35: FALSE | W35: FALSE
C36: (5) 次世代育成支援対策推進法（平成15年法律第120号）に基づく一般事業主行動計画の策定状況 | V36: FALSE | W36: FALSE
H37: （上記(3)で「無」を選び、かつ、(4)で「有」を選んだ場合に限り記入すること。） | V37: FALSE | W37: FALSE
C38: 策定の有無 | F38: 有 | J38: 無 | V38: TRUE | W38: TRUE
C39: 15 建設業労働災害防止協会（建災防）への加入状況
C40: 加入の有無 | F40: 有 | G40: 無 | H40: （該当するものを☑すること。) | M40: 加入年月 | R40: 年 | T40: 月 | W40: =IF(OR(V40=TRUE,V40=""),FALSE,TRUE) -> FALSE
C41: 16 第三者賠償責任補償保険（年間包括契約に限る。）への加入状況
C42: 加入の有無 | F42: 有 | G42: 無 | H42: （該当するものを☑すること。) | M42: 塡補限度額 | O42: 身体賠償 | T42: 万円 | W42: =IF(OR(V42=TRUE,V42=""),FALSE,TRUE) -> FALSE
C43: 保険期間 （補償期間） | F43: 年 月 日 | I43: ～ | J43: 年 月 日 | O43: 財物賠償 | T43: 万円
C44: 17 不当要求防止責任者講習受講状況
C45: 受講者氏名 | M45: 受講年月日 | O45: 年 月 日

Sheet 3
A2: D | C2: 18 協力雇用主への登録状況
A3: 3 | C3: 登録の有無 | F3: 有 | G3: 無 | H3: （該当するものを☑すること。) | M3: 登録年月 | R3: 年 | T3: 月 | W3: =IF(OR(V3=TRUE,V3=""),FALSE,TRUE) -> FALSE
C4: 19 えひめジョブチャレンジＵ－15事業 受入事業所等への登録状況
C5: 登録の有無 | F5: 有 | G5: 無 | H5: （該当するものを☑すること。) | M5: 登録年月 | R5: 年 | T5: 月 | V5: FALSE | W5: FALSE
C6: 20 えひめゼロカーボン・チャレンジ企業認定状況
C7: 認定の有無 | F7: □有 □無（該当するものに☑すること） | M7: 登録年月 | R7: 年 | T7: 月
C8: 21 建設機械の保有状況 | R8: 台
C9: 22 外国人建設人材の育成等の受入れ体制整備
C10: (1) 整備している支援体制（いずれかに☑）
C11: 必須項目の有無 | I11: □有 □無 （該当するものに☑すること）
C12: 支援体制の該当項目 | I12: □３つ以上 □２つ以下（該当するものに☑すること）
C13: (2) 雇用している外国人建設人材数
C14: 技術・人文知識・国際業務 特定技能２号 | H14: 人 | I14: 特定技能１号 | N14: 人 | O14: 技能実習 | T14: 人
C15: (3) 外国人建設人材と地域社会との共生
C16: 行っている取組みの数 | R16: 個
C17: 23 障害者雇用状況
C18: (1) 障害者の雇用義務
C19: 義務の有無 | F19: 有 | J19: 無 | N19: （該当するものを☑すること。) | V19: FALSE | W19: FALSE
C20: (2) 障害者の雇用義務がある者の雇用義務の達成状況 （上記(1)で「有」を選んだ場合に限り記入すること。）
C21: 達成の状況 | F21: 達成している | J21: 達成していない | N21: （該当するものを☑すること。) | V21: FALSE | W21: FALSE
C22: (3) 障害者の雇用の有無 （上記(1)で「無」を選んだ場合に限り記入すること。）
C23: 雇用の有無 | F23: 有 | J23: 無 | N23: （該当するものを☑すること。) | V23: FALSE | W23: FALSE
C24: (4) 雇用障害者情報
C25: 個別状況 | E25: 身体障害者手帳等の番号 | M25: 障害等級又は程度
C26: 1
C27: 2
C28: 3
C29: 4
C30: 5
C31: 24 愛媛県に建設工事入札参加資格審査申請書を提出し、又は提出を予定している系列会社の状況
E32: 有 | F32: 無 | G32: （該当するものを☑すること。) | L32: (2) 子会社 | N32: 有 | O32: 無 | P32: （該当するものを☑すること。) | W32: =IF(OR(V32=TRUE,V32=""),FALSE,TRUE) -> FALSE | Z32: =IF(OR(Y32=TRUE,Y32=""),FALSE,TRUE) -> FALSE
C33: 商号又は名称 | F33: 許可番号 | H33: 住 所 | L33: 商号又は名称 | O33: 許可番号 | Q33: 住 所
C37: (3) 役員の兼任 | F37: 有 | G37: 無 | H37: （該当するものを☑すること。) | W37: =IF(OR(V37=TRUE,V37=""),FALSE,TRUE) -> FALSE
C38: 役職 | E38: 氏 名 | H38: 許可番号 | K38: 兼任先の商号又は名称 | Q38: 兼任先役職

Sheet 4
C1: ※該当者なしの場合は空欄としてください。また、行の追加・延長による規定人数以上の記入はしないでください。
A2: D | C2: 25 満35歳未満の技術関係職員の雇用状況 | AJ2: 若年(その他) | AK2: 対象外文字列
A3: 5 | D3: 氏名 | H3: 年齢 | K3: 生年月日 | O3: 雇用年月日 | V3: 職種 | AJ3: =COUNTA(D3:D14)-1-AK3 -> 0 | AK3: =IF(OR(D4="なし",D4="該当なし",D4="該当者なし",D4="非該当"),1,0) -> 0
C4: 1 | AI4: 23 に記入した職員は記入しないこと
C5: 2
C6: 3
C7: 4
C8: 5
C9: 6
C10: 7
C11: 8
C12: 9
C13: 10
C14: 26 女性の技術関係職員の雇用状況 | AJ14: 女性(その他) | AK14: 対象外文字列
D15: 氏名 | H15: 生 年 月 日 | O15: 雇用年月日 | V15: 職種 | AJ15: =COUNTA(D15:D21)-1-AK15 -> 0 | AK15: =IF(OR(D16="なし",D16="該当なし",D16="該当者なし",D16="非該当"),1,0) -> 0
C16: 1 | AI16: 23 に記入した職員は記入しないこと
C17: 2
C18: 3
C19: 4
C20: 5
C21: 27 建設機械運転業務の有資格者の在籍状況 | AJ21: 機械資格計 | AK21: 対象外文字列
D22: 氏名 | H22: 生 年 月 日 | O22: 雇用年月日 | V22: 資格の種類 | AG22: 役員等 | AJ22: =COUNTA(D22:D34)-1-AK22 -> 0 | AK22: =IF(OR(D23="なし",D23="該当なし",D23="該当者なし",D23="非該当"),1,0) -> 0
C23: 1 | AI23: 23 に記入した職員も記入すること
C24: 2
C25: 3
C26: 4
C27: 5
C28: 6
C29: 7
C30: 8
C31: 9
C32: 10
C33: 11
C34: 28 防災士等の有資格者の在籍状況 | AJ34: 防災(その他) | AK34: 対象外文字列
D35: 氏名 | H35: 生 年 月 日 | O35: 雇用年月日 | V35: 資格の種類 | AG35: 役員等 | AJ35: =COUNTA(D35:D41)-1-AK35 -> 0 | AK35: =IF(OR(D36="なし",D36="該当なし",D36="該当者なし",D36="非該当"),1,0) -> 0
C36: 1 | AI36: 23 に記入した職員は記入しないこと
C37: 2
C38: 3
C39: 4
C40: 5

Sheet 5
C1: ※表彰区分コードが1～5の表彰の場合は、表彰を受けた発注業種を選択してください。6～9の表彰の場合は、全発注業種が対象となりますので業種を空欄としてください。
C2: 29 優秀施工者国土交通大臣顕彰受賞者（人数を記入すること）
C3: 土木 | D3: 建築 | E3: 大工 | F3: 左官 | G3: とび・土工 | H3: 石 | I3: 屋根 | J3: 電気 | K3: 管 | L3: タイル・ れんが・ ブロック | M3: 鋼構造物 | N3: 鉄筋 | O3: 舗装 | P3: しゆんせつ | Q3: 板金 | R3: ガラス
C5: 塗装 | D5: 防水 | E5: 内装仕上 | F5: 機械器具設置 | G5: 熱絶縁 | H5: 電気通信 | I5: 造園 | J5: さく井 | K5: 建具 | L5: 水道施設 | M5: 消防施設 | N5: 清掃施設 | O5: 解体
A7: D | C7: 30 表彰受賞歴 | U7: 受賞年月日 | V7: =IF('[1]1'!$C$41="◯","土","×") -> × | W7: =IF('[1]1'!$E$41="◯","建","×") -> × | X7: =IF('[1]1'!$G$41="◯","大","×") -> × | Y7: =IF('[1]1'!$I$41="◯","左","×") -> × | Z7: =IF('[1]1'!$K$41="◯","と","×") -> × | AA7: =IF('[1]1'!$M$41="◯","石","×") -> × | AB7: =IF('[1]1'!$O$41="◯","屋","×") -> × | AC7: =IF('[1]1'!$Q$41="◯","電","×") -> × | AD7: =IF('[1]1'!$S$41="◯","管","×") -> × | AE7: =IF('[1]1'!$U$41="◯","タ","×") -> × | AF7: =IF('[1]1'!$W$41="◯","鋼","×") -> × | AG7: =IF('[1]1'!$Y$41="◯","筋","×") -> × | AH7: =IF('[1]1'!$AA$41="◯","ほ","×") -> × | AI7: =IF('[1]1'!$AC$41="◯","し","×") -> × | AJ7: =IF('[1]1'!$AE$41="◯","板","×") -> × | AK7: =IF('[1]1'!$AG$41="◯","ガ","×") -> × | AL7: =IF('[1]1'!$C$43="◯","塗","×") -> × | AM7: =IF('[1]1'!$E$43="◯","防","×") -> × | AN7: =IF('[1]1'!$G$43="◯","内","×") -> × | AO7: =IF('[1]1'!$I$43="◯","機","×") -> × | AP7: =IF('[1]1'!$K$43="◯","絶","×") -> × | AQ7: =IF('[1]1'!$M$43="◯","通","×") -> × | AR7: =IF('[1]1'!$O$43="◯","園","×") -> × | AS7: =IF('[1]1'!$Q$43="◯","井","×") -> × | AT7: =IF('[1]1'!$S$43="◯","具","×") -> × | AU7: =IF('[1]1'!$U$43="◯","水","×") -> × | AV7: =IF('[1]1'!$W$43="◯","消","×") -> × | AW7: =IF('[1]1'!$Y$43="◯","清","×") -> × | AX7: =IF('[1]1'!$AA$43="◯","解","×") -> ×
A8: 6 | C8: 表彰区分 コード | D8: 表 彰 の 種 類 | K8: 受 賞 年 月 日 | N8: 業種 | O8: 工 事 名 | T8: 業種一覧 並び位置 | V8: =IF(SUM(V9:V23)>0,COUNTIF($V$7:V$7,"<>×"),"") | W8: =IF(SUM(W9:W23)>0,COUNTIF($V$7:W$7,"<>×"),"") | X8: =IF(SUM(X9:X23)>0,COUNTIF($V$7:X$7,"<>×"),"") | Y8: =IF(SUM(Y9:Y23)>0,COUNTIF($V$7:Y$7,"<>×"),"") | Z8: =IF(SUM(Z9:Z23)>0,COUNTIF($V$7:Z$7,"<>×"),"") | AA8: =IF(SUM(AA9:AA23)>0,COUNTIF($V$7:AA$7,"<>×"),"") | AB8: =IF(SUM(AB9:AB23)>0,COUNTIF($V$7:AB$7,"<>×"),"") | AC8: =IF(SUM(AC9:AC23)>0,COUNTIF($V$7:AC$7,"<>×"),"") | ... AX8: =IF(SUM(AX9:AX23)>0,COUNTIF($V$7:AX$7,"<>×"),"")
D9: =IFERROR(INDEX('1'!$AJ$165:$AK$173,MATCH($C9,'1'!$AJ$165:$AJ$173,0),2),"") | T9: 表彰 その１ | U9: =IF(K9="","",K9) | V9: =IF($C9>5,IF(V$7<>"×",$C9,""),IF($N9=V$7,$C9,"")) | W9: =IF($C9>5,IF(W$7<>"×",$C9,""),IF($N9=W$7,$C9,"")) | X9: =IF($C9>5,IF(X$7<>"×",$C9,""),IF($N9=X$7,$C9,"")) | Y9: =IF($C9>5,IF(Y$7<>"×",$C9,""),IF($N9=Y$7,$C9,"")) | Z9: =IF($C9>5,IF(Z$7<>"×",$C9,""),IF($N9=Z$7,$C9,"")) | AA9: =IF($C9>5,IF(AA$7<>"×",$C9,""),IF($N9=AA$7,$C9,"")) | AB9: =IF($C9>5,IF(AB$7<>"×",$C9,""),IF($N9=AB$7,$C9,"")) | AC9: =IF($C9>5,IF(AC$7<>"×",$C9,""),IF($N9=AC$7,$C9,"")) | ... AX9: =IF($C9>5,IF(AX$7<>"×",$C9,""),IF($N9=AX$7,$C9,""))
D10: =IFERROR(INDEX('1'!$AJ$165:$AK$173,MATCH($C10,'1'!$AJ$165:$AJ$173,0),2),"") | T10: 表彰 その２ | U10: =IF(K10="","",K10) | V10: =IF($C10>5,IF(V$7<>"×",$C10,""),IF($N10=V$7,$C10,"")) | W10: =IF($C10>5,IF(W$7<>"×",$C10,""),IF($N10=W$7,$C10,"")) | X10: =IF($C10>5,IF(X$7<>"×",$C10,""),IF($N10=X$7,$C10,"")) | Y10: =IF($C10>5,IF(Y$7<>"×",$C10,""),IF($N10=Y$7,$C10,"")) | Z10: =IF($C10>5,IF(Z$7<>"×",$C10,""),IF($N10=Z$7,$C10,"")) | AA10: =IF($C10>5,IF(AA$7<>"×",$C10,""),IF($N10=AA$7,$C10,"")) | AB10: =IF($C10>5,IF(AB$7<>"×",$C10,""),IF($N10=AB$7,$C10,"")) | AC10: =IF($C10>5,IF(AC$7<>"×",$C10,""),IF($N10=AC$7,$C10,"")) | ... AX10: =IF($C10>5,IF(AX$7<>"×",$C10,""),IF($N10=AX$7,$C10,""))
D11: =IFERROR(INDEX('1'!$AJ$165:$AK$173,MATCH($C11,'1'!$AJ$165:$AJ$173,0),2),"") | T11: 表彰 その３ | U11: =IF(K11="","",K11) | V11: =IF($C11>5,IF(V$7<>"×",$C11,""),IF($N11=V$7,$C11,"")) | W11: =IF($C11>5,IF(W$7<>"×",$C11,""),IF($N11=W$7,$C11,"")) | X11: =IF($C11>5,IF(X$7<>"×",$C11,""),IF($N11=X$7,$C11,"")) | Y11: =IF($C11>5,IF(Y$7<>"×",$C11,""),IF($N11=Y$7,$C11,"")) | Z11: =IF($C11>5,IF(Z$7<>"×",$C11,""),IF($N11=Z$7,$C11,"")) | AA11: =IF($C11>5,IF(AA$7<>"×",$C11,""),IF($N11=AA$7,$C11,"")) | AB11: =IF($C11>5,IF(AB$7<>"×",$C11,""),IF($N11=AB$7,$C11,"")) | AC11: =IF($C11>5,IF(AC$7<>"×",$C11,""),IF($N11=AC$7,$C11,"")) | ... AX11: =IF($C11>5,IF(AX$7<>"×",$C11,""),IF($N11=AX$7,$C11,""))
D12: =IFERROR(INDEX('1'!$AJ$165:$AK$173,MATCH($C12,'1'!$AJ$165:$AJ$173,0),2),"") | T12: 表彰 その４ | U12: =IF(K12="","",K12) | V12: =IF($C12>5,IF(V$7<>"×",$C12,""),IF($N12=V$7,$C12,"")) | W12: =IF($C12>5,IF(W$7<>"×",$C12,""),IF($N12=W$7,$C12,"")) | X12: =IF($C12>5,IF(X$7<>"×",$C12,""),IF($N12=X$7,$C12,"")) | Y12: =IF($C12>5,IF(Y$7<>"×",$C12,""),IF($N12=Y$7,$C12,"")) | Z12: =IF($C12>5,IF(Z$7<>"×",$C12,""),IF($N12=Z$7,$C12,"")) | AA12: =IF($C12>5,IF(AA$7<>"×",$C12,""),IF($N12=AA$7,$C12,"")) | AB12: =IF($C12>5,IF(AB$7<>"×",$C12,""),IF($N12=AB$7,$C12,"")) | AC12: =IF($C12>5,IF(AC$7<>"×",$C12,""),IF($N12=AC$7,$C12,"")) | ... AX12: =IF($C12>5,IF(AX$7<>"×",$C12,""),IF($N12=AX$7,$C12,""))
D13: =IFERROR(INDEX('1'!$AJ$165:$AK$173,MATCH($C13,'1'!$AJ$165:$AJ$173,0),2),"") | T13: 表彰 その５ | U13: =IF(K13="","",K13) | V13: =IF($C13>5,IF(V$7<>"×",$C13,""),IF($N13=V$7,$C13,"")) | W13: =IF($C13>5,IF(W$7<>"×",$C13,""),IF($N13=W$7,$C13,"")) | X13: =IF($C13>5,IF(X$7<>"×",$C13,""),IF($N13=X$7,$C13,"")) | Y13: =IF($C13>5,IF(Y$7<>"×",$C13,""),IF($N13=Y$7,$C13,"")) | Z13: =IF($C13>5,IF(Z$7<>"×",$C13,""),IF($N13=Z$7,$C13,"")) | AA13: =IF($C13>5,IF(AA$7<>"×",$C13,""),IF($N13=AA$7,$C13,"")) | AB13: =IF($C13>5,IF(AB$7<>"×",$C13,""),IF($N13=AB$7,$C13,"")) | AC13: =IF($C13>5,IF(AC$7<>"×",$C13,""),IF($N13=AC$7,$C13,"")) | ... AX13: =IF($C13>5,IF(AX$7<>"×",$C13,""),IF($N13=AX$7,$C13,""))
D14: =IFERROR(INDEX('1'!$AJ$165:$AK$173,MATCH($C14,'1'!$AJ$165:$AJ$173,0),2),"") | T14: 表彰 その６ | U14: =IF(K14="","",K14) | V14: =IF($C14>5,IF(V$7<>"×",$C14,""),IF($N14=V$7,$C14,"")) | W14: =IF($C14>5,IF(W$7<>"×",$C14,""),IF($N14=W$7,$C14,"")) | X14: =IF($C14>5,IF(X$7<>"×",$C14,""),IF($N14=X$7,$C14,"")) | Y14: =IF($C14>5,IF(Y$7<>"×",$C14,""),IF($N14=Y$7,$C14,"")) | Z14: =IF($C14>5,IF(Z$7<>"×",$C14,""),IF($N14=Z$7,$C14,"")) | AA14: =IF($C14>5,IF(AA$7<>"×",$C14,""),IF($N14=AA$7,$C14,"")) | AB14: =IF($C14>5,IF(AB$7<>"×",$C14,""),IF($N14=AB$7,$C14,"")) | AC14: =IF($C14>5,IF(AC$7<>"×",$C14,""),IF($N14=AC$7,$C14,"")) | ... AX14: =IF($C14>5,IF(AX$7<>"×",$C14,""),IF($N14=AX$7,$C14,""))
D15: =IFERROR(INDEX('1'!$AJ$165:$AK$173,MATCH($C15,'1'!$AJ$165:$AJ$173,0),2),"") | T15: 表彰 その７ | U15: =IF(K15="","",K15) | V15: =IF($C15>5,IF(V$7<>"×",$C15,""),IF($N15=V$7,$C15,"")) | W15: =IF($C15>5,IF(W$7<>"×",$C15,""),IF($N15=W$7,$C15,"")) | X15: =IF($C15>5,IF(X$7<>"×",$C15,""),IF($N15=X$7,$C15,"")) | Y15: =IF($C15>5,IF(Y$7<>"×",$C15,""),IF($N15=Y$7,$C15,"")) | Z15: =IF($C15>5,IF(Z$7<>"×",$C15,""),IF($N15=Z$7,$C15,"")) | AA15: =IF($C15>5,IF(AA$7<>"×",$C15,""),IF($N15=AA$7,$C15,"")) | AB15: =IF($C15>5,IF(AB$7<>"×",$C15,""),IF($N15=AB$7,$C15,"")) | AC15: =IF($C15>5,IF(AC$7<>"×",$C15,""),IF($N15=AC$7,$C15,"")) | ... AX15: =IF($C15>5,IF(AX$7<>"×",$C15,""),IF($N15=AX$7,$C15,""))
D16: =IFERROR(INDEX('1'!$AJ$165:$AK$173,MATCH($C16,'1'!$AJ$165:$AJ$173,0),2),"") | T16: 表彰 その８ | U16: =IF(K16="","",K16) | V16: =IF($C16>5,IF(V$7<>"×",$C16,""),IF($N16=V$7,$C16,"")) | W16: =IF($C16>5,IF(W$7<>"×",$C16,""),IF($N16=W$7,$C16,"")) | X16: =IF($C16>5,IF(X$7<>"×",$C16,""),IF($N16=X$7,$C16,"")) | Y16: =IF($C16>5,IF(Y$7<>"×",$C16,""),IF($N16=Y$7,$C16,"")) | Z16: =IF($C16>5,IF(Z$7<>"×",$C16,""),IF($N16=Z$7,$C16,"")) | AA16: =IF($C16>5,IF(AA$7<>"×",$C16,""),IF($N16=AA$7,$C16,"")) | AB16: =IF($C16>5,IF(AB$7<>"×",$C16,""),IF($N16=AB$7,$C16,"")) | AC16: =IF($C16>5,IF(AC$7<>"×",$C16,""),IF($N16=AC$7,$C16,"")) | ... AX16: =IF($C16>5,IF(AX$7<>"×",$C16,""),IF($N16=AX$7,$C16,""))
D17: =IFERROR(INDEX('1'!$AJ$165:$AK$173,MATCH($C17,'1'!$AJ$165:$AJ$173,0),2),"") | T17: 表彰 その９ | U17: =IF(K17="","",K17) | V17: =IF($C17>5,IF(V$7<>"×",$C17,""),IF($N17=V$7,$C17,"")) | W17: =IF($C17>5,IF(W$7<>"×",$C17,""),IF($N17=W$7,$C17,"")) | X17: =IF($C17>5,IF(X$7<>"×",$C17,""),IF($N17=X$7,$C17,"")) | Y17: =IF($C17>5,IF(Y$7<>"×",$C17,""),IF($N17=Y$7,$C17,"")) | Z17: =IF($C17>5,IF(Z$7<>"×",$C17,""),IF($N17=Z$7,$C17,"")) | AA17: =IF($C17>5,IF(AA$7<>"×",$C17,""),IF($N17=AA$7,$C17,"")) | AB17: =IF($C17>5,IF(AB$7<>"×",$C17,""),IF($N17=AB$7,$C17,"")) | AC17: =IF($C17>5,IF(AC$7<>"×",$C17,""),IF($N17=AC$7,$C17,"")) | ... AX17: =IF($C17>5,IF(AX$7<>"×",$C17,""),IF($N17=AX$7,$C17,""))
D18: =IFERROR(INDEX('1'!$AJ$165:$AK$173,MATCH($C18,'1'!$AJ$165:$AJ$173,0),2),"") | T18: 表彰 その１０ | U18: =IF(K18="","",K18) | V18: =IF($C18>5,IF(V$7<>"×",$C18,""),IF($N18=V$7,$C18,"")) | W18: =IF($C18>5,IF(W$7<>"×",$C18,""),IF($N18=W$7,$C18,"")) | X18: =IF($C18>5,IF(X$7<>"×",$C18,""),IF($N18=X$7,$C18,"")) | Y18: =IF($C18>5,IF(Y$7<>"×",$C18,""),IF($N18=Y$7,$C18,"")) | Z18: =IF($C18>5,IF(Z$7<>"×",$C18,""),IF($N18=Z$7,$C18,"")) | AA18: =IF($C18>5,IF(AA$7<>"×",$C18,""),IF($N18=AA$7,$C18,"")) | AB18: =IF($C18>5,IF(AB$7<>"×",$C18,""),IF($N18=AB$7,$C18,"")) | AC18: =IF($C18>5,IF(AC$7<>"×",$C18,""),IF($N18=AC$7,$C18,"")) | ... AX18: =IF($C18>5,IF(AX$7<>"×",$C18,""),IF($N18=AX$7,$C18,""))
D19: =IFERROR(INDEX('1'!$AJ$165:$AK$173,MATCH($C19,'1'!$AJ$165:$AJ$173,0),2),"") | T19: 表彰 その１１ | U19: =IF(K19="","",K19) | V19: =IF($C19>5,IF(V$7<>"×",$C19,""),IF($N19=V$7,$C19,"")) | W19: =IF($C19>5,IF(W$7<>"×",$C19,""),IF($N19=W$7,$C19,"")) | X19: =IF($C19>5,IF(X$7<>"×",$C19,""),IF($N19=X$7,$C19,"")) | Y19: =IF($C19>5,IF(Y$7<>"×",$C19,""),IF($N19=Y$7,$C19,"")) | Z19: =IF($C19>5,IF(Z$7<>"×",$C19,""),IF($N19=Z$7,$C19,"")) | AA19: =IF($C19>5,IF(AA$7<>"×",$C19,""),IF($N19=AA$7,$C19,"")) | AB19: =IF($C19>5,IF(AB$7<>"×",$C19,""),IF($N19=AB$7,$C19,"")) | AC19: =IF($C19>5,IF(AC$7<>"×",$C19,""),IF($N19=AC$7,$C19,"")) | ... AX19: =IF($C19>5,IF(AX$7<>"×",$C19,""),IF($N19=AX$7,$C19,""))
D20: =IFERROR(INDEX('1'!$AJ$165:$AK$173,MATCH($C20,'1'!$AJ$165:$AJ$173,0),2),"") | T20: 表彰 その１２ | U20: =IF(K20="","",K20) | V20: =IF($C20>5,IF(V$7<>"×",$C20,""),IF($N20=V$7,$C20,"")) | W20: =IF($C20>5,IF(W$7<>"×",$C20,""),IF($N20=W$7,$C20,"")) | X20: =IF($C20>5,IF(X$7<>"×",$C20,""),IF($N20=X$7,$C20,"")) | Y20: =IF($C20>5,IF(Y$7<>"×",$C20,""),IF($N20=Y$7,$C20,"")) | Z20: =IF($C20>5,IF(Z$7<>"×",$C20,""),IF($N20=Z$7,$C20,"")) | AA20: =IF($C20>5,IF(AA$7<>"×",$C20,""),IF($N20=AA$7,$C20,"")) | AB20: =IF($C20>5,IF(AB$7<>"×",$C20,""),IF($N20=AB$7,$C20,"")) | AC20: =IF($C20>5,IF(AC$7<>"×",$C20,""),IF($N20=AC$7,$C20,"")) | ... AX20: =IF($C20>5,IF(AX$7<>"×",$C20,""),IF($N20=AX$7,$C20,""))
... D23: =IFERROR(INDEX('1'!$AJ$165:$AK$173,MATCH($C23,'1'!$AJ$165:$AJ$173,0),2),"") | T23: 表彰 その１５ | U23: =IF(K23="","",K23) | V23: =IF($C23>5,IF(V$7<>"×",$C23,""),IF($N23=V$7,$C23,"")) | W23: =IF($C23>5,IF(W$7<>"×",$C23,""),IF($N23=W$7,$C23,"")) | X23: =IF($C23>5,IF(X$7<>"×",$C23,""),IF($N23=X$7,$C23,"")) | Y23: =IF($C23>5,IF(Y$7<>"×",$C23,""),IF($N23=Y$7,$C23,"")) | Z23: =IF($C23>5,IF(Z$7<>"×",$C23,""),IF($N23=Z$7,$C23,"")) | AA23: =IF($C23>5,IF(AA$7<>"×",$C23,""),IF($N23=AA$7,$C23,"")) | AB23: =IF($C23>5,IF(AB$7<>"×",$C23,""),IF($N23=AB$7,$C23,"")) | AC23: =IF($C23>5,IF(AC$7<>"×",$C23,""),IF($N23=AC$7,$C23,"")) | ... AX23: =IF($C23>5,IF(AX$7<>"×",$C23,""),IF($N23=AX$7,$C23,""))
C24: 31 監督処分及び入札参加資格停止措置の状況
C25: 実施行政庁 | F25: 処分等の年月日 | I25: 処分等の内容・期間 | L25: 処分等の理由
C29: 30 主要取引金融機関名（支店名まで記入すること。) （該当するものを☑すること。)
P30: 普 通 | Q30: 当 座 | U30: =IF(OR(T30=TRUE,T30=0),FALSE,TRUE) -> FALSE
P31: 普 通 | Q31: 当 座 | U31: =IF(OR(T31=TRUE,T31=0),FALSE,TRUE) -> FALSE
P32: 普 通 | Q32: 当 座 | U32: =IF(OR(T32=TRUE,T32=0),FALSE,TRUE) -> FALSE
P33: 普 通 | Q33: 当 座 | U33: =IF(OR(T33=TRUE,T33=0),FALSE,TRUE) -> FALSE

Sheet 6
A2: A | B2: 別紙 | AK2: 業者コード
A3: C
A4: 6 | E4: 使 用 印 鑑 届
D6: 使用印 | J6: 実印
D17: 上記の印鑑は、入札、見積り、契約及び契約に基づく行為に使用したいから
D19: お届けします。
E21: 年 月 日
G23: 住 所
G25: 商号又は名称
G27: 代表者の役職 及び氏名 | N27: 実印
