Workbook

Sheet 様式第３号(実績報告)
B2: 様式第４号(第11条関係)
J4: 番 号
J5: 年 月 日
C9: 愛媛県知事 殿
I11: （法人名称）
I12: （法人住所）
I13: （役職・代表者名） | M13: 印
A17: 令和８年度愛媛県訪問介護等サービス提供体制確保支援事業費補助金の事業実績報告について | N17: ※年度は和暦でご記入ください。
C20: 令和 年 月 日付け愛媛県指令 長第 号の交付決定通知のあった令和８年度愛媛県訪問介護等サービス提供体制確保支援事業費補助金に係る事業実績について、令和８年度愛媛県訪問介護等サービス提供体制確保支援事業費補助金交付要綱第11条の規定により関係書類を添えて報告します。
D28: 精 算 額 | G28: 金 | J28: 円
C33: （添付書類）
C34: 1 | D34: 事業者情報(別紙５)
C35: 2 | D35: 事業実績報告書(別紙６)
C36: 3 | D36: 精算額調書(別紙７)
C37: 4 | D37: 収支決算書(別紙８)

Sheet 別紙５(事業者情報)
A1: 別紙５
A2: 令和８年度愛媛県訪問介護等サービス提供体制確保支援事業 事業者情報
I4: ※本書は事業所ごとに作成願います。 | P4: ○
A5: ① | B5: 法人等名称 | P5: サービス種別
A6: ② | B6: 法人代表者職氏名
A7: ③ | B7: 法人等住所 | D7: 〒 | F7: - | H7: 住所 | P7: 訪問介護
A8: ④ | B8: 担当者職氏名 | P8: 定期巡回・随時対応型訪問介護看護
A9: ⑤ | B9: 担 当 者 所 属
A10: ⑥ | B10: 電 話 番 号
A11: ⑦ | B11: メールアドレス
A12: ⑧ | B12: 事業実施 事業所名
A13: ⑨ | B13: 事業実施 事業所住所 | D13: 〒 | F13: - | H13: 住所
A14: ⑩ | B14: 介護保険 事業所番号
A15: ⑪ | B15: サービス種別
A16: ⑫ | B16: 実 施 事 業 | D16: （１）人材確保体制構築支援事業 ※実施した事業に「○」をつけてください。
E17: （ア）研修体制の構築の支援
E18: （イ）経験年数が短い訪問介護員等への同行支援
D19: （２）経営改善支援事業 ※実施した事業に「○」をつけてください。
E20: （ア）経営改善の支援
E21: （イ）介護人材・利用者確保のための広報活動に関する支援
A22: ⑬ | B22: 領 収 書 等 （金額の根拠が わかるもの） | D22: （１）人材確保体制構築支援事業
E23: （ア）研修体制の構築の支援
E24: （イ）経験年数が短い訪問介護員等への同行支援
D25: （２）経営改善支援事業
E26: （ア）経営改善の支援
E27: （イ）介護人材・利用者確保のための広報活動に関する支援
B28: ※領収書など金額の根拠がわかる書類を本様式の提出時に添付してください。
B29: （例）見積書、事業計画時に作成した積算書、各費用明細書、賃金等を確認できる給与規程など

Sheet 別紙６(事業実績報告書)
A1: 別紙６ | L1: ※本書は事業所ごとに作成願います。
A2: 令和８年度愛媛県訪問介護等サービス提供体制確保支援事業 事業実績報告 | Z2: ○
H4: 法人等名称 | N4: ='別紙５(事業者情報)'!D5&"" | Z4: 該当する
H5: 事業所名称 | N5: ='別紙５(事業者情報)'!D12&"" | Z5: 該当しない
H6: 中山間地域等・離島等地域に該当
A8: （１）人材確保体制構築支援事業
B9: =IF('別紙５(事業者情報)'!D17="","入力不要（事業を実施した場合は「事業者情報」シートの⑫実施した事業にて『○』を選択してください。）","") -> 入力不要（事業を実施した場合は「事業者情報」シートの⑫実施した事業にて『○』を選択してください。）
B10: （ア）研修体制の構築の支援
C11: ① 事業実施期間 | H11: 年 | J11: 月 | L11: 日 | M11: ～ | P11: 年 | R11: 月 | T11: 日
C12: ② 実施事業の内容及び成果等
D16: ※実施した事業の内容や方法、成果及び達成状況を詳細に記載願います。
B18: =IF('別紙５(事業者情報)'!D18="","入力不要（事業を実施した場合は「事業者情報」シートの⑫実施した事業にて『○』を選択してください。）","") -> 入力不要（事業を実施した場合は「事業者情報」シートの⑫実施した事業にて『○』を選択してください。）
B19: （イ）経験年数が短い訪問介護員等への同行支援
C20: ① 事業実施期間 | H20: 年 | J20: 月 | L20: 日 | M20: ～ | P20: 年 | R20: 月 | T20: 日
C21: ② 同行を受けた職員の人数
E22: 人
C23: ③ 同行を受けた職員の氏名・採用年月日及び同行訪問の実施回数
D24: No. | E24: 職員名 | F24: 採用年月日 | M24: 同行訪問の予定回数
M25: 30分未満 | P25: 30分以上
D26: 1 | F26: 令和 | H26: 年 | J26: 月 | L26: 日 | O26: 回 | R26: 回 | S26: 計 | T26: =M26+P26 -> 0 | V26: =IF(T26>30,"1人当たり30回を超過しています。","")
D27: 2 | F27: 令和 | H27: 年 | J27: 月 | L27: 日 | O27: 回 | R27: 回 | S27: 計 | T27: =M27+P27 -> 0 | V27: =IF(T27>30,"1人当たり30回を超過しています。","")
D28: 3 | F28: 令和 | H28: 年 | J28: 月 | L28: 日 | O28: 回 | R28: 回 | S28: 計 | T28: =M28+P28 -> 0 | V28: =IF(T28>30,"1人当たり30回を超過しています。","")
D29: 4 | F29: 令和 | H29: 年 | J29: 月 | L29: 日 | O29: 回 | R29: 回 | S29: 計 | T29: =M29+P29 -> 0 | V29: =IF(T29>30,"1人当たり30回を超過しています。","")
D30: 5 | F30: 令和 | H30: 年 | J30: 月 | L30: 日 | O30: 回 | R30: 回 | S30: 計 | T30: =M30+P30 -> 0 | V30: =IF(T30>30,"1人当たり30回を超過しています。","")
F31: 令和 | H31: 年 | J31: 月 | L31: 日 | O31: 回 | R31: 回 | S31: 計 | T31: =M31+P31 -> 0 | V31: =IF(T31>30,"1人当たり30回を超過しています。","")
D32: 計 | M32: =SUM(M26:N31) -> 0 | O32: 回 | P32: =SUM(P26:Q31) -> 0 | R32: 回
D33: ※１人当たりの実施回数は、30分未満と30分以上を合わせて、最大30回までです。
A35: （２）経営改善支援事業
B36: =IF('別紙５(事業者情報)'!D20="","入力不要（事業を実施した場合は「事業者情報」シートの⑫実施した事業にて『○』を選択してください。）","") -> 入力不要（事業を実施した場合は「事業者情報」シートの⑫実施した事業にて『○』を選択してください。）
B37: （ア）経営改善の支援
C38: ① 事業実施期間 | H38: 年 | J38: 月 | L38: 日 | M38: ～ | P38: 年 | R38: 月 | T38: 日
C40: ② 委託事業者名
D41: 連絡先
C42: ③ 委託した事業内容等
D43: 契約日 | F43: 契約期間 | M43: 事業内容
D45: ※実施した事業の内容や方法、成果及び達成状況を詳細に記載願います。
B47: =IF('別紙５(事業者情報)'!D21="","入力不要（事業を実施した場合は「事業者情報」シートの⑫実施した事業にて『○』を選択してください。）","") -> 入力不要（事業を実施した場合は「事業者情報」シートの⑫実施した事業にて『○』を選択してください。）
B48: （イ）介護人材・利用者確保のための広報活動に関する支援
C49: ① 事業実施期間 | H49: 年 | J49: 月 | L49: 日 | M49: ～ | P49: 年 | R49: 月 | T49: 日
C50: ② 実施した事業（該当するものに○）
...

Sheet 別紙７(積算額調書)
A1: 別紙７ | F1: ※本書は事業所ごとに作成願います。
A2: 令和８年度愛媛県訪問介護等サービス提供体制確保支援事業 精算額調書
A4: 法人等名称 | B4: ='別紙５(事業者情報)'!D5&"" | E4: 事業所名称 | F4: ='別紙５(事業者情報)'!D12&""
A7: （１）人材確保体制構築支援事業 | H7: （単位：円）
A8: （ア）研修体制の構築の支援
B10: 総事業費 | C10: 収入額 | D10: 差引額 （Ａ－Ｂ） | E10: 対象経費の 支出予定額 | F10: 補助上限額 | G10: 選定額 (Ｃ、Ｄ、Ｅのうち少ない金額) | H10: 補助所要額 （千円未満 切り捨て）
B11: Ａ | C11: Ｂ | D11: Ｃ | E11: Ｄ | F11: Ｅ | G11: Ｆ | H11: Ｇ
A12: =IF('別紙５(事業者情報)'!D17="","入力不要","") -> 入力不要 | C12: 0 | D12: =B12-C12 -> 0 | F12: 100000 | G12: =MIN(D12,E12,F12) -> 0 | H12: =ROUNDDOWN(G12,-3) -> 0
A13: （イ）経験年数が短い訪問介護員等への同行支援
B15: 総事業費 | C15: 収入額 | D15: 差引額 （Ａ－Ｂ） | E15: 対象経費の 支出予定額 | F15: 補助上限額 | G15: 選定額 (Ｃ、Ｄ、Ｅのうち少ない金額) | H15: 補助所要額 （千円未満 切り捨て）
B16: Ａ | C16: Ｂ | D16: Ｃ | E16: Ｄ | F16: Ｅ | G16: Ｆ | H16: Ｇ
A17: =IF('別紙５(事業者情報)'!D18="","入力不要","") -> 入力不要 | B17: =IF('別紙６(事業実績報告書)'!N6="該当しない",'別紙６(事業実績報告書)'!M32*2500+'別紙６(事業実績報告書)'!P32*4000,IF('別紙６(事業実績報告書)'!N6="該当する",'別紙６(事業実績報告書)'!M32*3500+'別紙６(事業実績報告書)'!P32*5000,0)) -> 0 | C17: 0 | D17: =B17-C17 -> 0 | F17: =IF('別紙６(事業実績報告書)'!N6="該当しない",'別紙６(事業実績報告書)'!M32*2500+'別紙６(事業実績報告書)'!P32*4000,IF('別紙６(事業実績報告書)'!N6="該当する",'別紙６(事業実績報告書)'!M32*3500+'別紙６(事業実績報告書)'!P32*5000,0)) -> 0 | G17: =MIN(D17,E17,F17) -> 0 | H17: =ROUNDDOWN(G17,-3) -> 0
A19: （１）合計 | B19: =H12+H17 -> 0 | C19: 円
A21: （２）経営改善支援事業 | H21: （単位：円）
A22: （ア）経営改善の支援
B24: 総事業費 | C24: 収入額 | D24: 差引額 （Ａ－Ｂ） | E24: 対象経費の 支出予定額 | F24: 補助上限額 | G24: 選定額 (Ｃ、Ｄ、Ｅのうち少ない金額) | H24: 補助所要額 （千円未満 切り捨て）
B25: Ａ | C25: Ｂ | D25: Ｃ | E25: Ｄ | F25: Ｅ | G25: Ｆ | H25: Ｇ
A26: =IF('別紙５(事業者情報)'!D20="","入力不要","") -> 入力不要 | C26: 0 | D26: =B26-C26 -> 0 | F26: 400000 | G26: =MIN(D26,E26,F26) -> 0 | H26: =ROUNDDOWN(G26,-3) -> 0
A27: （イ）介護人材・利用者確保のための広報活動に関する支援
B29: 総事業費 | C29: 収入額 | D29: 差引額 （Ａ－Ｂ） | E29: 対象経費の 支出予定額 | F29: 補助上限額 | G29: 選定額 (Ｃ、Ｄ、Ｅのうち少ない金額) | H29: 補助所要額 （千円未満 切り捨て）
B30: Ａ | C30: Ｂ | D30: Ｃ | E30: Ｄ | F30: Ｅ | G30: Ｆ | H30: Ｇ
A31: =IF('別紙５(事業者情報)'!D21="","入力不要","") -> 入力不要 | C31: 0 | D31: =B31-C31 -> 0 | F31: 300000 | G31: =MIN(D31,E31,F31) -> 0 | H31: =ROUNDDOWN(G31,-3) -> 0
A33: （２）合計 | B33: =H26+H31 -> 0 | C33: 円
A36: 実績報告額の合計 | C36: =B19+B33 -> 0 | D36: 円
A38: 注１ 「収入額（Ｂ）」の欄には、選定額の算出に当たり補助事業等に要する経費から控除すべき金額（寄附金その他の収入）を記載してください。
A39: ２ （１）（イ）「総事業費（A）」及び「補助上限額（Ｅ）」の欄は、事業計画書（１）（イ）③に同行訪問予定回数を入力すると自動で計算されます。
A40: ３ 「補助所要額（Ｇ）」の欄には、選定額が表示されます。ただし、千円未満に端数がある場合は、千円未満を切り捨てた額となります。
A41: ４ 灰色に着色しているセルには計算式が入力されているため、入力は不要です。

Sheet 別紙８(収支決算書)　
A1: 別紙８ | C1: ※本書は事業所ごとに作成願います。
A2: 令和８年度愛媛県訪問介護等サービス提供体制確保支援事業 収支決算書
A4: 収入
A5: 科目 | C5: 決算（見込）額 | E5: 摘要
A14: 合計 | C14: =SUM(C6:C13) -> 0
A17: 支出
A18: 科目 | C18: 決算（見込）額 | E18: 摘要
A27: 合計 | C27: =SUM(C19:C26) -> 0
A28: ※全体の収支ではなく、当該事業に係る経費に関してのみ記載すること。
A30: この写しは、原本に相違ないことを証明します。
B32: 年 月 日
A34: 法人名 | C34: ='別紙５(事業者情報)'!D5&""
A36: 代表者名 | C36: ='別紙５(事業者情報)'!D6&""

Sheet (記入例)収支決算書
A1: 別紙８ | C1: ※本書は事業所ごとに作成願います。
A2: 令和８年度愛媛県訪問介護等サービス提供体制確保支援事業 収支決算書
A4: 収入
A5: 科目 | C5: 決算（見込）額 | E5: 摘要
A7: 自己負担金 | C7: 55000
A9: 補助金 | C9: 100000 | E9: 令和８年度愛媛県訪問介護等サービス提供体制確保支援事業費補助金
A14: 合計 | C14: =SUM(C6:C13) -> 155000
A17: 支出
A18: 科目 | C18: 決算（見込）額 | E18: 摘要
A20: 研修費 | C20: 155000 | E20: ○○研修費
A27: 合計 | C27: =SUM(C19:C26) -> 155000
A28: ※全体の収支ではなく、当該事業に係る経費に関してのみ記載すること。
A30: この写しは、原本に相違ないことを証明します。
B32: 年 月 日
A34: 法人名 | C34: ='別紙５(事業者情報)'!D5&""
A36: 代表者名 | C36: ='別紙５(事業者情報)'!D6&""
